BEGIN:VCALENDAR
VERSION:2.0
PRODID:-//Plato AVM - ECPv6.5.0//NONSGML v1.0//EN
CALSCALE:GREGORIAN
METHOD:PUBLISH
X-ORIGINAL-URL:https://www.platoavm.com
X-WR-CALDESC:Plato AVM için etkinlikler
REFRESH-INTERVAL;VALUE=DURATION:PT1H
X-Robots-Tag:noindex
X-PUBLISHED-TTL:PT1H
BEGIN:VTIMEZONE
TZID:Europe/Istanbul
BEGIN:STANDARD
TZOFFSETFROM:+0300
TZOFFSETTO:+0300
TZNAME:+03
DTSTART:20250101T000000
END:STANDARD
END:VTIMEZONE
BEGIN:VEVENT
DTSTART;TZID=Europe/Istanbul:20250130T100000
DTEND;TZID=Europe/Istanbul:20250228T170000
DTSTAMP:20260423T235929
CREATED:20250130T072718Z
LAST-MODIFIED:20250131T085023Z
UID:10630-1738231200-1740762000@www.platoavm.com
SUMMARY:PLATO 12. YILA ÖZEL ÇEKİLİŞLER
DESCRIPTION:
URL:https://www.platoavm.com/etkinlik/plato-12-yila-ozel-cekilisler/
ATTACH;FMTTYPE=image/jpeg:https://www.platoavm.com/wp-content/uploads/2025/01/guncel-etkinlik.jpg
END:VEVENT
END:VCALENDAR