BEGIN:VCALENDAR
VERSION:2.0
PRODID:-//Plato AVM - ECPv6.5.0//NONSGML v1.0//EN
CALSCALE:GREGORIAN
METHOD:PUBLISH
X-WR-CALNAME:Plato AVM
X-ORIGINAL-URL:https://www.platoavm.com
X-WR-CALDESC:Plato AVM için etkinlikler
REFRESH-INTERVAL;VALUE=DURATION:PT1H
X-Robots-Tag:noindex
X-PUBLISHED-TTL:PT1H
BEGIN:VTIMEZONE
TZID:Europe/Istanbul
BEGIN:STANDARD
TZOFFSETFROM:+0300
TZOFFSETTO:+0300
TZNAME:+03
DTSTART:20250101T000000
END:STANDARD
END:VTIMEZONE
BEGIN:VEVENT
DTSTART;TZID=Europe/Istanbul:20250118T140000
DTEND;TZID=Europe/Istanbul:20250119T180000
DTSTAMP:20260424T012613
CREATED:20250128T132624Z
LAST-MODIFIED:20250128T132624Z
UID:10628-1737208800-1737309600@www.platoavm.com
SUMMARY:Neşeli Dünyam Etkinliği
DESCRIPTION:
URL:https://www.platoavm.com/etkinlik/neseli-dunyam-etkinligi/
ATTACH;FMTTYPE=image/jpeg:https://www.platoavm.com/wp-content/uploads/2024/05/IMG_7272.jpg
END:VEVENT
END:VCALENDAR