BEGIN:VCALENDAR
VERSION:2.0
PRODID:-//Plato AVM - ECPv6.5.0//NONSGML v1.0//EN
CALSCALE:GREGORIAN
METHOD:PUBLISH
X-WR-CALNAME:Plato AVM
X-ORIGINAL-URL:https://www.platoavm.com
X-WR-CALDESC:Plato AVM için etkinlikler
REFRESH-INTERVAL;VALUE=DURATION:PT1H
X-Robots-Tag:noindex
X-PUBLISHED-TTL:PT1H
BEGIN:VTIMEZONE
TZID:Europe/Istanbul
BEGIN:STANDARD
TZOFFSETFROM:+0300
TZOFFSETTO:+0300
TZNAME:+03
DTSTART:20240101T000000
END:STANDARD
END:VTIMEZONE
BEGIN:VEVENT
DTSTART;TZID=Europe/Istanbul:20241110T141500
DTEND;TZID=Europe/Istanbul:20241110T163000
DTSTAMP:20260425T144246
CREATED:20241108T114818Z
LAST-MODIFIED:20241108T115200Z
UID:10561-1731248100-1731256200@www.platoavm.com
SUMMARY:0000 KİLOMETRE SİNAMA FİLMİ - OYUNCULU GÖSTERİM
DESCRIPTION:OYUNCULAR \nDerya Pınar AK \nAhmet Haktan ZAVLAK \nYÖNETMEN \nDeniz ENYÜKSEK
URL:https://www.platoavm.com/etkinlik/0000-kilometre-sinama-filmi-oyunculu-gosterim/
ATTACH;FMTTYPE=image/jpeg:https://www.platoavm.com/wp-content/uploads/2024/11/Plato-Post.jpg
END:VEVENT
END:VCALENDAR